BEGIN:VCALENDAR
VERSION:2.0
PRODID:-//Tukios.com/
BEGIN:VEVENT
UID:ffedf57b-d3d7-44c2-8fd4-e38277733fc2@www.broadwaycolonialfh.com
DTSTAMP:20260424T084121Z
DTSTART:20260424T180000Z
DTEND:20260424T190000Z
SUMMARY:Graveside Service
DESCRIPTION:
URL:https://www.broadwaycolonialfh.com/obituaries/beverly-rose
LOCATION:  U.S. 50  Newton KS 
GEO:38.0283188;-97.3884674
END:VEVENT
END:VCALENDAR